BEGIN:VCALENDAR
VERSION:2.0
PRODID:-//Franklin County Florida - ECPv6.15.20//NONSGML v1.0//EN
CALSCALE:GREGORIAN
METHOD:PUBLISH
X-WR-CALNAME:Franklin County Florida
X-ORIGINAL-URL:https://www.franklincountyflorida.com
X-WR-CALDESC:Events for Franklin County Florida
REFRESH-INTERVAL;VALUE=DURATION:PT1H
X-Robots-Tag:noindex
X-PUBLISHED-TTL:PT1H
BEGIN:VTIMEZONE
TZID:America/New_York
BEGIN:DAYLIGHT
TZOFFSETFROM:-0500
TZOFFSETTO:-0400
TZNAME:EDT
DTSTART:20150308T070000
END:DAYLIGHT
BEGIN:STANDARD
TZOFFSETFROM:-0400
TZOFFSETTO:-0500
TZNAME:EST
DTSTART:20151101T060000
END:STANDARD
BEGIN:DAYLIGHT
TZOFFSETFROM:-0500
TZOFFSETTO:-0400
TZNAME:EDT
DTSTART:20160313T070000
END:DAYLIGHT
BEGIN:STANDARD
TZOFFSETFROM:-0400
TZOFFSETTO:-0500
TZNAME:EST
DTSTART:20161106T060000
END:STANDARD
BEGIN:DAYLIGHT
TZOFFSETFROM:-0500
TZOFFSETTO:-0400
TZNAME:EDT
DTSTART:20170312T070000
END:DAYLIGHT
BEGIN:STANDARD
TZOFFSETFROM:-0400
TZOFFSETTO:-0500
TZNAME:EST
DTSTART:20171105T060000
END:STANDARD
END:VTIMEZONE
BEGIN:VEVENT
DTSTART;TZID=America/New_York:20160919T131500
DTEND;TZID=America/New_York:20160919T131500
DTSTAMP:20260419T175000
CREATED:20160810T230455Z
LAST-MODIFIED:20160810T230758Z
UID:10000060-1474290900-1474290900@www.franklincountyflorida.com
SUMMARY:BOCC Budget Hearing
DESCRIPTION:The Franklin County Board of County Commissioners will conduct a Budget Hearing on 5:15 p.m. at the Commission Meeting Room in Apalachicola.
URL:https://www.franklincountyflorida.com/event/board-of-county-commissioners/
END:VEVENT
BEGIN:VEVENT
DTSTART;VALUE=DATE:20160912
DTEND;VALUE=DATE:20160914
DTSTAMP:20260419T175000
CREATED:20160629T054505Z
LAST-MODIFIED:20160930T193821Z
UID:10000053-1473710400-1473796799@www.franklincountyflorida.com
SUMMARY:P&Z MEETING
DESCRIPTION:Franklin County Planning & Zoning Agenda \n 
URL:https://www.franklincountyflorida.com/event/pz-meeting-3/
END:VEVENT
BEGIN:VEVENT
DTSTART;TZID=America/New_York:20160906T131500
DTEND;TZID=America/New_York:20160906T131500
DTSTAMP:20260419T175000
CREATED:20160810T230333Z
LAST-MODIFIED:20160810T230703Z
UID:10000059-1473167700-1473167700@www.franklincountyflorida.com
SUMMARY:BOCC Budget Hearing
DESCRIPTION:The Franklin County Board of County Commissioners will conduct a Budget Hearing at 5:15 p.m. in the Commission Meeting Room in Apalachicola.
URL:https://www.franklincountyflorida.com/event/board-of-county-commissioners-budget-hearing/
END:VEVENT
BEGIN:VEVENT
DTSTART;TZID=America/New_York:20160906T100000
DTEND;TZID=America/New_York:20160906T100000
DTSTAMP:20260419T175000
CREATED:20160820T005632Z
LAST-MODIFIED:20160820T005632Z
UID:10000062-1473156000-1473156000@www.franklincountyflorida.com
SUMMARY:Board of County Commissioners
DESCRIPTION:The Franklin County Board of County Commissioners will conduct a workshop with the Weems Memorial Hospital Board of Directors on September 6\, 2016 at 2:00 p.m. at the Franklin County Courthouse Annex\, Commission Meeting Room\, Apalachicola\, FL. \n 
URL:https://www.franklincountyflorida.com/event/board-of-county-commissioners-2/
END:VEVENT
BEGIN:VEVENT
DTSTART;TZID=America/New_York:20160906T050000
DTEND;TZID=America/New_York:20160906T050000
DTSTAMP:20260419T175000
CREATED:20160629T054505Z
LAST-MODIFIED:20160701T165937Z
UID:10000026-1473138000-1473138000@www.franklincountyflorida.com
SUMMARY:BOCC Regular Meeting
DESCRIPTION:Board of County Commissioners Regular Meeting at 9:00 a.m. in the Commission Meeting Room in Apalachicola
URL:https://www.franklincountyflorida.com/event/bocc-regular-meeting-5/
END:VEVENT
BEGIN:VEVENT
DTSTART;VALUE=DATE:20160904
DTEND;VALUE=DATE:20160906
DTSTAMP:20260419T175000
CREATED:20160629T054505Z
LAST-MODIFIED:20160701T165925Z
UID:10000016-1473019200-1473105599@www.franklincountyflorida.com
SUMMARY:Labor Day (Holiday)
DESCRIPTION:All County Offices are closed.
URL:https://www.franklincountyflorida.com/event/labor-day-holiday/
END:VEVENT
BEGIN:VEVENT
DTSTART;TZID=America/New_York:20160830T120000
DTEND;TZID=America/New_York:20160830T120000
DTSTAMP:20260419T175000
CREATED:20160819T231753Z
LAST-MODIFIED:20160819T231753Z
UID:10000061-1472558400-1472558400@www.franklincountyflorida.com
SUMMARY:Value Adjustment Board
DESCRIPTION:The Franklin County Value Adjustment Board has scheduled an Organizational Meeting on Tuesday\, August 30\, 2016 at 4:00 p.m.  The meeting will be held at the Franklin County Courthouse Annex\, Commission Meeting Room\, at 34 Forbes Street\, Apalachicola\, FL. \n  \n 
URL:https://www.franklincountyflorida.com/event/value-adjustment-board/
END:VEVENT
BEGIN:VEVENT
DTSTART;TZID=America/New_York:20160816T050000
DTEND;TZID=America/New_York:20160816T050000
DTSTAMP:20260419T175000
CREATED:20160629T054505Z
LAST-MODIFIED:20160701T165855Z
UID:10000025-1471323600-1471323600@www.franklincountyflorida.com
SUMMARY:BOCC Regular Meeting
DESCRIPTION:Board of County Commissioners Regular Meeting at 9:00 a.m. in the Commission Meeting Room in Apalachicola
URL:https://www.franklincountyflorida.com/event/bocc-regular-meeting-4/
END:VEVENT
BEGIN:VEVENT
DTSTART;VALUE=DATE:20160808
DTEND;VALUE=DATE:20160810
DTSTAMP:20260419T175000
CREATED:20160629T054505Z
LAST-MODIFIED:20160729T003622Z
UID:10000052-1470686400-1470772799@www.franklincountyflorida.com
SUMMARY:P&Z MEETING
DESCRIPTION:P&Z Agenda
URL:https://www.franklincountyflorida.com/event/pz-meeting-2/
END:VEVENT
BEGIN:VEVENT
DTSTART;TZID=America/New_York:20160802T050000
DTEND;TZID=America/New_York:20160802T050000
DTSTAMP:20260419T175000
CREATED:20160629T054505Z
LAST-MODIFIED:20160729T012726Z
UID:10000024-1470114000-1470114000@www.franklincountyflorida.com
SUMMARY:BOCC Regular Meeting
DESCRIPTION:Board of County Commissioners Regular Meeting at 9:00 a.m. in the Commission Meeting Room in Apalachicola \nAug 2\, 2016 Agenda
URL:https://www.franklincountyflorida.com/event/bocc-regular-meeting-3/
END:VEVENT
BEGIN:VEVENT
DTSTART;TZID=America/New_York:20160720T050000
DTEND;TZID=America/New_York:20160720T050000
DTSTAMP:20260419T175000
CREATED:20160629T054506Z
LAST-MODIFIED:20160701T165743Z
UID:10000058-1468990800-1468990800@www.franklincountyflorida.com
SUMMARY:BOCC Public Workshop
DESCRIPTION:The Board of County Commissioners will conduct a Budget Workshop at 9:00 a.m. in the Commission Meeting Room in Apalachicola.
URL:https://www.franklincountyflorida.com/event/bocc-public-workshop-2/
END:VEVENT
BEGIN:VEVENT
DTSTART;TZID=America/New_York:20160719T093000
DTEND;TZID=America/New_York:20160719T093000
DTSTAMP:20260419T175000
CREATED:20160629T054506Z
LAST-MODIFIED:20160701T165723Z
UID:10000057-1468920600-1468920600@www.franklincountyflorida.com
SUMMARY:BOCC Public Workshop
DESCRIPTION:The Board of County Commissioners will conduct a Budget Workshop at 1:30 p.m. in the Commission Meeting Room in Apalachicola.
URL:https://www.franklincountyflorida.com/event/bocc-public-workshop/
END:VEVENT
BEGIN:VEVENT
DTSTART;TZID=America/New_York:20160719T050000
DTEND;TZID=America/New_York:20160719T050000
DTSTAMP:20260419T175000
CREATED:20160629T054505Z
LAST-MODIFIED:20160715T235940Z
UID:10000023-1468904400-1468904400@www.franklincountyflorida.com
SUMMARY:BOCC Regular Meeting
DESCRIPTION:Board of County Commissioners Regular Meeting at 9:00 a.m. in the Commission Meeting Room in Apalachicola \nAgenda
URL:https://www.franklincountyflorida.com/event/bocc-regular-meeting-2/
END:VEVENT
BEGIN:VEVENT
DTSTART;VALUE=DATE:20160711
DTEND;VALUE=DATE:20160713
DTSTAMP:20260419T175000
CREATED:20160629T054505Z
LAST-MODIFIED:20160712T233109Z
UID:10000051-1468267200-1468353599@www.franklincountyflorida.com
SUMMARY:P&Z MEETING
DESCRIPTION:Agenda for Planning & Zoning
URL:https://www.franklincountyflorida.com/event/pz-meeting/
END:VEVENT
BEGIN:VEVENT
DTSTART;TZID=America/New_York:20160705T050000
DTEND;TZID=America/New_York:20160705T050000
DTSTAMP:20260419T175000
CREATED:20160629T054505Z
LAST-MODIFIED:20160701T165657Z
UID:10000022-1467694800-1467694800@www.franklincountyflorida.com
SUMMARY:BOCC Regular Meeting
DESCRIPTION:Board of County Commissioners Regular Meeting at 9:00 a.m. in the Commission Meeting Room in Apalachicola. \nAgenda
URL:https://www.franklincountyflorida.com/event/bocc-regular-meeting/
END:VEVENT
BEGIN:VEVENT
DTSTART;VALUE=DATE:20160703
DTEND;VALUE=DATE:20160705
DTSTAMP:20260419T175000
CREATED:20160629T054505Z
LAST-MODIFIED:20160701T061252Z
UID:10000015-1467576000-1467662399@www.franklincountyflorida.com
SUMMARY:Independence Day (Holiday)
DESCRIPTION:All County Offices are closed.
URL:https://www.franklincountyflorida.com/event/independence-day-holiday/
END:VEVENT
END:VCALENDAR