BEGIN:VCALENDAR
VERSION:2.0
PRODID:-//Franklin County Florida - ECPv6.15.20//NONSGML v1.0//EN
CALSCALE:GREGORIAN
METHOD:PUBLISH
X-WR-CALNAME:Franklin County Florida
X-ORIGINAL-URL:https://www.franklincountyflorida.com
X-WR-CALDESC:Events for Franklin County Florida
REFRESH-INTERVAL;VALUE=DURATION:PT1H
X-Robots-Tag:noindex
X-PUBLISHED-TTL:PT1H
BEGIN:VTIMEZONE
TZID:America/New_York
BEGIN:DAYLIGHT
TZOFFSETFROM:-0500
TZOFFSETTO:-0400
TZNAME:EDT
DTSTART:20150308T070000
END:DAYLIGHT
BEGIN:STANDARD
TZOFFSETFROM:-0400
TZOFFSETTO:-0500
TZNAME:EST
DTSTART:20151101T060000
END:STANDARD
BEGIN:DAYLIGHT
TZOFFSETFROM:-0500
TZOFFSETTO:-0400
TZNAME:EDT
DTSTART:20160313T070000
END:DAYLIGHT
BEGIN:STANDARD
TZOFFSETFROM:-0400
TZOFFSETTO:-0500
TZNAME:EST
DTSTART:20161106T060000
END:STANDARD
BEGIN:DAYLIGHT
TZOFFSETFROM:-0500
TZOFFSETTO:-0400
TZNAME:EDT
DTSTART:20170312T070000
END:DAYLIGHT
BEGIN:STANDARD
TZOFFSETFROM:-0400
TZOFFSETTO:-0500
TZNAME:EST
DTSTART:20171105T060000
END:STANDARD
END:VTIMEZONE
BEGIN:VEVENT
DTSTART;TZID=America/New_York:20160720T050000
DTEND;TZID=America/New_York:20160720T050000
DTSTAMP:20260419T210738
CREATED:20160629T054506Z
LAST-MODIFIED:20160701T165743Z
UID:10000058-1468990800-1468990800@www.franklincountyflorida.com
SUMMARY:BOCC Public Workshop
DESCRIPTION:The Board of County Commissioners will conduct a Budget Workshop at 9:00 a.m. in the Commission Meeting Room in Apalachicola.
URL:https://www.franklincountyflorida.com/event/bocc-public-workshop-2/
END:VEVENT
BEGIN:VEVENT
DTSTART;TZID=America/New_York:20160719T093000
DTEND;TZID=America/New_York:20160719T093000
DTSTAMP:20260419T210738
CREATED:20160629T054506Z
LAST-MODIFIED:20160701T165723Z
UID:10000057-1468920600-1468920600@www.franklincountyflorida.com
SUMMARY:BOCC Public Workshop
DESCRIPTION:The Board of County Commissioners will conduct a Budget Workshop at 1:30 p.m. in the Commission Meeting Room in Apalachicola.
URL:https://www.franklincountyflorida.com/event/bocc-public-workshop/
END:VEVENT
BEGIN:VEVENT
DTSTART;TZID=America/New_York:20160719T050000
DTEND;TZID=America/New_York:20160719T050000
DTSTAMP:20260419T210738
CREATED:20160629T054505Z
LAST-MODIFIED:20160715T235940Z
UID:10000023-1468904400-1468904400@www.franklincountyflorida.com
SUMMARY:BOCC Regular Meeting
DESCRIPTION:Board of County Commissioners Regular Meeting at 9:00 a.m. in the Commission Meeting Room in Apalachicola \nAgenda
URL:https://www.franklincountyflorida.com/event/bocc-regular-meeting-2/
END:VEVENT
BEGIN:VEVENT
DTSTART;VALUE=DATE:20160711
DTEND;VALUE=DATE:20160713
DTSTAMP:20260419T210738
CREATED:20160629T054505Z
LAST-MODIFIED:20160712T233109Z
UID:10000051-1468267200-1468353599@www.franklincountyflorida.com
SUMMARY:P&Z MEETING
DESCRIPTION:Agenda for Planning & Zoning
URL:https://www.franklincountyflorida.com/event/pz-meeting/
END:VEVENT
BEGIN:VEVENT
DTSTART;TZID=America/New_York:20160705T050000
DTEND;TZID=America/New_York:20160705T050000
DTSTAMP:20260419T210738
CREATED:20160629T054505Z
LAST-MODIFIED:20160701T165657Z
UID:10000022-1467694800-1467694800@www.franklincountyflorida.com
SUMMARY:BOCC Regular Meeting
DESCRIPTION:Board of County Commissioners Regular Meeting at 9:00 a.m. in the Commission Meeting Room in Apalachicola. \nAgenda
URL:https://www.franklincountyflorida.com/event/bocc-regular-meeting/
END:VEVENT
BEGIN:VEVENT
DTSTART;VALUE=DATE:20160703
DTEND;VALUE=DATE:20160705
DTSTAMP:20260419T210738
CREATED:20160629T054505Z
LAST-MODIFIED:20160701T061252Z
UID:10000015-1467576000-1467662399@www.franklincountyflorida.com
SUMMARY:Independence Day (Holiday)
DESCRIPTION:All County Offices are closed.
URL:https://www.franklincountyflorida.com/event/independence-day-holiday/
END:VEVENT
END:VCALENDAR