BEGIN:VCALENDAR
VERSION:2.0
PRODID:-//Franklin County Florida - ECPv6.15.20//NONSGML v1.0//EN
CALSCALE:GREGORIAN
METHOD:PUBLISH
X-WR-CALNAME:Franklin County Florida
X-ORIGINAL-URL:https://www.franklincountyflorida.com
X-WR-CALDESC:Events for Franklin County Florida
REFRESH-INTERVAL;VALUE=DURATION:PT1H
X-Robots-Tag:noindex
X-PUBLISHED-TTL:PT1H
BEGIN:VTIMEZONE
TZID:America/New_York
BEGIN:DAYLIGHT
TZOFFSETFROM:-0500
TZOFFSETTO:-0400
TZNAME:EDT
DTSTART:20170312T070000
END:DAYLIGHT
BEGIN:STANDARD
TZOFFSETFROM:-0400
TZOFFSETTO:-0500
TZNAME:EST
DTSTART:20171105T060000
END:STANDARD
BEGIN:DAYLIGHT
TZOFFSETFROM:-0500
TZOFFSETTO:-0400
TZNAME:EDT
DTSTART:20180311T070000
END:DAYLIGHT
BEGIN:STANDARD
TZOFFSETFROM:-0400
TZOFFSETTO:-0500
TZNAME:EST
DTSTART:20181104T060000
END:STANDARD
BEGIN:DAYLIGHT
TZOFFSETFROM:-0500
TZOFFSETTO:-0400
TZNAME:EDT
DTSTART:20190310T070000
END:DAYLIGHT
BEGIN:STANDARD
TZOFFSETFROM:-0400
TZOFFSETTO:-0500
TZNAME:EST
DTSTART:20191103T060000
END:STANDARD
END:VTIMEZONE
BEGIN:VEVENT
DTSTART;TZID=America/New_York:20180719T050000
DTEND;TZID=America/New_York:20180719T050000
DTSTAMP:20260420T091224
CREATED:20180620T233111Z
LAST-MODIFIED:20180620T233111Z
UID:10000177-1531976400-1531976400@www.franklincountyflorida.com
SUMMARY:BOCC Budget Workshop
DESCRIPTION:The Franklin County Board of County Commissioners will hold a Budget Workshop at 9:00 a.m. in the Commission Meeting Room in Apalachicola.
URL:https://www.franklincountyflorida.com/event/bocc-budget-workshop/
END:VEVENT
BEGIN:VEVENT
DTSTART;TZID=America/New_York:20180717T050000
DTEND;TZID=America/New_York:20180717T050000
DTSTAMP:20260420T091224
CREATED:20171009T231415Z
LAST-MODIFIED:20171009T231415Z
UID:10000124-1531803600-1531803600@www.franklincountyflorida.com
SUMMARY:BOCC Regular Meeting
DESCRIPTION:The regular meeting of the Franklin County Board of County Commissioners will be held on July 17\, 2018 at 9:00 a.m. in the Commission Meeting Room in Apalachicola.
URL:https://www.franklincountyflorida.com/event/bocc-regular-meeting-26/
END:VEVENT
BEGIN:VEVENT
DTSTART;TZID=America/New_York:20180710T143000
DTEND;TZID=America/New_York:20180710T143000
DTSTAMP:20260420T091224
CREATED:20180313T234043Z
LAST-MODIFIED:20180313T234043Z
UID:10000171-1531233000-1531233000@www.franklincountyflorida.com
SUMMARY:Planning & Building
DESCRIPTION:The Planning and Zoning Commission will meet on Tuesday\, July 10\, 2018 at 6:30 P.M. This meeting will be held at the Franklin County Courthouse Annex 34 Forbes Street\, Apalachicola\, FL 32320
URL:https://www.franklincountyflorida.com/event/planning-building-8/
END:VEVENT
BEGIN:VEVENT
DTSTART;TZID=America/New_York:20180709T100000
DTEND;TZID=America/New_York:20180709T100000
DTSTAMP:20260420T091224
CREATED:20180709T200223Z
LAST-MODIFIED:20180709T200502Z
UID:10000179-1531130400-1531130400@www.franklincountyflorida.com
SUMMARY:07/09/2018
DESCRIPTION:The Franklin County Board of County Commissioners will conduct an Emergency Meeting at 2:00 p.m. (ET) in the Courtroom\, 3rd Floor\, Franklin County Courthouse\, 33 Market Street\, Apalachicola\, Florida to consider the purchase of 24 FEMA trailers from the Government Services Administration at a cost of $8\,500.00 each.  The funds for this purchase shall come from the Reserve for Contingency Funds.  Immediately after obtaining title\, Franklin County shall sell all of the travel trailers to the Capital Area Community Action Agency\, Inc. for $8\,500.00 each plus transportation cost to Franklin County\, Florida.
URL:https://www.franklincountyflorida.com/event/07-09-2018/
END:VEVENT
BEGIN:VEVENT
DTSTART;VALUE=DATE:20180703
DTEND;VALUE=DATE:20180705
DTSTAMP:20260420T091224
CREATED:20171011T224538Z
LAST-MODIFIED:20171011T224538Z
UID:10000139-1530648000-1530734399@www.franklincountyflorida.com
SUMMARY:Independence Day (Holiday)
DESCRIPTION:All County Offices are closed.
URL:https://www.franklincountyflorida.com/event/independence-day-holiday-3/
END:VEVENT
BEGIN:VEVENT
DTSTART;TZID=America/New_York:20180703T050000
DTEND;TZID=America/New_York:20180703T050000
DTSTAMP:20260420T091224
CREATED:20171009T231230Z
LAST-MODIFIED:20171009T231230Z
UID:10000123-1530594000-1530594000@www.franklincountyflorida.com
SUMMARY:BOCC Regular Meeting
DESCRIPTION:The regular meeting of the Franklin County Board of County Commissioners will be held on July 3\, 2018 at 9:00 a.m. in the Commission Meeting Room in Apalachicola.
URL:https://www.franklincountyflorida.com/event/bocc-regular-meeting-25/
END:VEVENT
BEGIN:VEVENT
DTSTART;TZID=America/New_York:20180620T040000
DTEND;TZID=America/New_York:20180620T130000
DTSTAMP:20260420T091224
CREATED:20180608T001133Z
LAST-MODIFIED:20180611T172733Z
UID:10000176-1529467200-1529499600@www.franklincountyflorida.com
SUMMARY:Advisory Board of Adjustment Special Meeting
DESCRIPTION:The Advisory Board of Adjustment will meet on Wednesday\, June 20\, 2018 at 10:00 A.M.  This meeting will be held at the Franklin County Courthouse Annex 34 Forbes Street\, Apalachicola\, FL 32320
URL:https://www.franklincountyflorida.com/event/advisory-board-of-adjustment-special-meeting/
END:VEVENT
BEGIN:VEVENT
DTSTART;TZID=America/New_York:20180619T050000
DTEND;TZID=America/New_York:20180619T050000
DTSTAMP:20260420T091224
CREATED:20171009T231105Z
LAST-MODIFIED:20171009T231105Z
UID:10000122-1529384400-1529384400@www.franklincountyflorida.com
SUMMARY:BOCC Regular Meeting
DESCRIPTION:The regular meeting of the Franklin County Board of County Commissioners will be held on June 19\, 2018 at 9:00 a.m. in the Commission Meeting Room in Apalachicola.
URL:https://www.franklincountyflorida.com/event/bocc-regular-meeting-24/
END:VEVENT
BEGIN:VEVENT
DTSTART;TZID=America/New_York:20180612T143000
DTEND;TZID=America/New_York:20180612T143000
DTSTAMP:20260420T091224
CREATED:20180313T234007Z
LAST-MODIFIED:20180313T234007Z
UID:10000170-1528813800-1528813800@www.franklincountyflorida.com
SUMMARY:Planning & Building
DESCRIPTION:The Planning and Zoning Commission will meet on Tuesday\, June 12\, 2018 at 6:30 P.M. This meeting will be held at the Franklin County Courthouse Annex 34 Forbes Street\, Apalachicola\, FL 32320
URL:https://www.franklincountyflorida.com/event/planning-building-7/
END:VEVENT
BEGIN:VEVENT
DTSTART;TZID=America/New_York:20180606T060000
DTEND;TZID=America/New_York:20180606T060000
DTSTAMP:20260420T091224
CREATED:20180117T193428Z
LAST-MODIFIED:20180117T193428Z
UID:10000158-1528264800-1528264800@www.franklincountyflorida.com
SUMMARY:Advisory Board of Adjustments
DESCRIPTION:The Advisory Board of Adjustment will meet on Wednesday\, June 6\, 2018 at 10:00 A.M.  This meeting will be held at the  Franklin County Courthouse Annex 34 Forbes Street\, Apalachicola\, FL 32320
URL:https://www.franklincountyflorida.com/event/advisory-board-of-adjustments-5/
END:VEVENT
BEGIN:VEVENT
DTSTART;TZID=America/New_York:20180605T050000
DTEND;TZID=America/New_York:20180605T050000
DTSTAMP:20260420T091224
CREATED:20171009T230949Z
LAST-MODIFIED:20171009T230949Z
UID:10000121-1528174800-1528174800@www.franklincountyflorida.com
SUMMARY:BOCC Regular Meeting
DESCRIPTION:The regular meeting of the Franklin County Board of County Commissioners will be held on June 5\, 2018 at 9:00 a.m. in the Commission Meeting Room in Apalachicola.
URL:https://www.franklincountyflorida.com/event/bocc-regular-meeting-23/
END:VEVENT
BEGIN:VEVENT
DTSTART;VALUE=DATE:20180527
DTEND;VALUE=DATE:20180529
DTSTAMP:20260420T091224
CREATED:20171011T223603Z
LAST-MODIFIED:20171011T224449Z
UID:10000138-1527451200-1527537599@www.franklincountyflorida.com
SUMMARY:Memorial Day (Holiday)
DESCRIPTION:All County Offices are closed.
URL:https://www.franklincountyflorida.com/event/memorial-day/
END:VEVENT
BEGIN:VEVENT
DTSTART;TZID=America/New_York:20180515T050000
DTEND;TZID=America/New_York:20180515T050000
DTSTAMP:20260420T091224
CREATED:20171009T230826Z
LAST-MODIFIED:20171009T230826Z
UID:10000120-1526360400-1526360400@www.franklincountyflorida.com
SUMMARY:BOCC Regular Meeting
DESCRIPTION:The regular meeting of the Franklin County Board of County Commissioners will be held on May 15\, 2018 at 9:00 a.m. in the Commission Meeting Room in Apalachicola.
URL:https://www.franklincountyflorida.com/event/bocc-regular-meeting-22/
END:VEVENT
BEGIN:VEVENT
DTSTART;TZID=America/New_York:20180508T143000
DTEND;TZID=America/New_York:20180508T143000
DTSTAMP:20260420T091224
CREATED:20180313T233924Z
LAST-MODIFIED:20180313T233924Z
UID:10000169-1525789800-1525789800@www.franklincountyflorida.com
SUMMARY:Planning & Building
DESCRIPTION:The Planning and Zoning Commission will meet on Tuesday\, May 8\, 2018 at 6:30 P.M. This meeting will be held at the Franklin County Courthouse Annex 34 Forbes Street\, Apalachicola\, FL 32320
URL:https://www.franklincountyflorida.com/event/planning-building-6/
END:VEVENT
BEGIN:VEVENT
DTSTART;TZID=America/New_York:20180502T060000
DTEND;TZID=America/New_York:20180502T060000
DTSTAMP:20260420T091224
CREATED:20180117T193244Z
LAST-MODIFIED:20180117T193244Z
UID:10000157-1525240800-1525240800@www.franklincountyflorida.com
SUMMARY:Advisory Board of Adjustments
DESCRIPTION:The Advisory Board of Adjustment will meet on Wednesday\, May 2\, 2018 at 10:00 A.M.  This meeting will be held at the  Franklin County Courthouse Annex 34 Forbes Street\, Apalachicola\, FL 32320
URL:https://www.franklincountyflorida.com/event/advisory-board-of-adjustments-4/
END:VEVENT
BEGIN:VEVENT
DTSTART;TZID=America/New_York:20180501T050000
DTEND;TZID=America/New_York:20180501T050000
DTSTAMP:20260420T091224
CREATED:20171009T230713Z
LAST-MODIFIED:20171009T230713Z
UID:10000119-1525150800-1525150800@www.franklincountyflorida.com
SUMMARY:BOCC Regular Meeting
DESCRIPTION:The regular meeting of the Franklin County Board of County Commissioners will be held on May 1\, 2018 at 9:00 a.m. in the Commission Meeting Room in Apalachicola.
URL:https://www.franklincountyflorida.com/event/bocc-regular-meeting-21/
END:VEVENT
BEGIN:VEVENT
DTSTART;TZID=America/New_York:20180417T050000
DTEND;TZID=America/New_York:20180417T050000
DTSTAMP:20260420T091224
CREATED:20171009T230552Z
LAST-MODIFIED:20171009T230552Z
UID:10000118-1523941200-1523941200@www.franklincountyflorida.com
SUMMARY:BOCC Regular Meeting
DESCRIPTION:The regular meeting of the Franklin County Board of County Commissioners will be held on April 17\, 2018 at 9:00 a.m. in the Commission Meeting Room in Apalachicola.
URL:https://www.franklincountyflorida.com/event/bocc-regular-meeting-20/
END:VEVENT
BEGIN:VEVENT
DTSTART;TZID=America/New_York:20180410T143000
DTEND;TZID=America/New_York:20180410T143000
DTSTAMP:20260420T091224
CREATED:20180313T233730Z
LAST-MODIFIED:20180313T233730Z
UID:10000168-1523370600-1523370600@www.franklincountyflorida.com
SUMMARY:Planning & Building
DESCRIPTION:The Planning and Zoning Commission will meet on Tuesday\,  April 10\, 2018 at 6:30 P.M. This meeting will be held at the Franklin County Courthouse Annex 34 Forbes Street\, Apalachicola\, FL 32320
URL:https://www.franklincountyflorida.com/event/planning-building-5/
END:VEVENT
BEGIN:VEVENT
DTSTART;TZID=America/New_York:20180404T060000
DTEND;TZID=America/New_York:20180404T060000
DTSTAMP:20260420T091224
CREATED:20180117T193153Z
LAST-MODIFIED:20180117T193153Z
UID:10000156-1522821600-1522821600@www.franklincountyflorida.com
SUMMARY:Advisory Board of Adjustments
DESCRIPTION:The Advisory Board of Adjustment will meet on Wednesday\, April 4\, 2018 at 10:00 A.M.  This meeting will be held at the  Franklin County Courthouse Annex 34 Forbes Street\, Apalachicola\, FL 32320
URL:https://www.franklincountyflorida.com/event/advisory-board-of-adjustments-3/
END:VEVENT
BEGIN:VEVENT
DTSTART;TZID=America/New_York:20180403T050000
DTEND;TZID=America/New_York:20180403T050000
DTSTAMP:20260420T091224
CREATED:20171009T230417Z
LAST-MODIFIED:20171009T230417Z
UID:10000117-1522731600-1522731600@www.franklincountyflorida.com
SUMMARY:BOCC Regular Meeting
DESCRIPTION:The regular meeting of the Franklin County Board of County Commissioners will be held on April 3\, 2018 at 9:00 a.m. in the Commission Meeting Room in Apalachicola.
URL:https://www.franklincountyflorida.com/event/bocc-regular-meeting-19/
END:VEVENT
BEGIN:VEVENT
DTSTART;VALUE=DATE:20180329
DTEND;VALUE=DATE:20180331
DTSTAMP:20260420T091224
CREATED:20171011T223446Z
LAST-MODIFIED:20171011T224423Z
UID:10000137-1522353600-1522439999@www.franklincountyflorida.com
SUMMARY:Good Friday (Holiday)
DESCRIPTION:All County Offices are closed.
URL:https://www.franklincountyflorida.com/event/good-friday/
END:VEVENT
BEGIN:VEVENT
DTSTART;TZID=America/New_York:20180320T050000
DTEND;TZID=America/New_York:20180320T050000
DTSTAMP:20260420T091224
CREATED:20171009T230250Z
LAST-MODIFIED:20171009T230250Z
UID:10000116-1521522000-1521522000@www.franklincountyflorida.com
SUMMARY:BOCC Regular Meeting
DESCRIPTION:The regular meeting of the Franklin County Board of County Commissioners will be held on March 20\, 2018 at 9:00 a.m. in the Commission Meeting Room in Apalachicola.
URL:https://www.franklincountyflorida.com/event/bocc-regular-meeting-18/
END:VEVENT
BEGIN:VEVENT
DTSTART;TZID=America/New_York:20180313T143000
DTEND;TZID=America/New_York:20180313T143000
DTSTAMP:20260420T091224
CREATED:20180303T015720Z
LAST-MODIFIED:20180303T015720Z
UID:10000166-1520951400-1520951400@www.franklincountyflorida.com
SUMMARY:Planning & Building Meeting
DESCRIPTION:The Planning and Zoning Commission will meet on Tuesday\, March 13\, 2018 at 6:30 P.M. This meeting will be held at the Franklin County Courthouse Annex 34 Forbes Street\, Apalachicola\, FL 32320
URL:https://www.franklincountyflorida.com/event/planning-building-meeting/
END:VEVENT
BEGIN:VEVENT
DTSTART;TZID=America/New_York:20180307T050000
DTEND;TZID=America/New_York:20180307T050000
DTSTAMP:20260420T091224
CREATED:20180117T192938Z
LAST-MODIFIED:20180117T192938Z
UID:10000155-1520398800-1520398800@www.franklincountyflorida.com
SUMMARY:Advisory Board of Adjustments
DESCRIPTION:The Advisory Board of Adjustment will meet on Wednesday\, March 7\, 2018 at 10:00 A.M.  This meeting will be held at the  Franklin County Courthouse Annex 34 Forbes Street\, Apalachicola\, FL 32320
URL:https://www.franklincountyflorida.com/event/advisory-board-of-adjustments-2/
END:VEVENT
BEGIN:VEVENT
DTSTART;TZID=America/New_York:20180306T040000
DTEND;TZID=America/New_York:20180306T040000
DTSTAMP:20260420T091224
CREATED:20171009T230138Z
LAST-MODIFIED:20171009T230138Z
UID:10000115-1520308800-1520308800@www.franklincountyflorida.com
SUMMARY:BOCC Regular Meeting
DESCRIPTION:The regular meeting of the Franklin County Board of County Commissioners will be held on March 6\, 2018 at 9:00 a.m. in the Commission Meeting Room in Apalachicola.
URL:https://www.franklincountyflorida.com/event/bocc-regular-meeting-17/
END:VEVENT
BEGIN:VEVENT
DTSTART;TZID=America/New_York:20180220T040000
DTEND;TZID=America/New_York:20180220T040000
DTSTAMP:20260420T091224
CREATED:20171009T230012Z
LAST-MODIFIED:20171009T230012Z
UID:10000114-1519099200-1519099200@www.franklincountyflorida.com
SUMMARY:BOCC Regular Meeting
DESCRIPTION:The regular meeting of the Franklin County Board of County Commissioners will be held on February 20\, 2018 at 9:00 a.m. in the Commission Meeting Room in Apalachicola.
URL:https://www.franklincountyflorida.com/event/bocc-regular-meeting-16/
END:VEVENT
BEGIN:VEVENT
DTSTART;TZID=America/New_York:20180213T133000
DTEND;TZID=America/New_York:20180213T133000
DTSTAMP:20260420T091224
CREATED:20180202T001039Z
LAST-MODIFIED:20180202T001157Z
UID:10000165-1518528600-1518528600@www.franklincountyflorida.com
SUMMARY:Planning & Building
DESCRIPTION:The Planning and Zoning Commission will meet on Tuesday\, February 13\, 2018 at 6:30 P.M. This meeting will be held at the Franklin County Courthouse Annex 34 Forbes Street\, Apalachicola\, FL 32320
URL:https://www.franklincountyflorida.com/event/planning-building-3/
END:VEVENT
BEGIN:VEVENT
DTSTART;TZID=America/New_York:20180207T050000
DTEND;TZID=America/New_York:20180207T050000
DTSTAMP:20260420T091224
CREATED:20180117T192759Z
LAST-MODIFIED:20180117T192759Z
UID:10000154-1517979600-1517979600@www.franklincountyflorida.com
SUMMARY:Advisory Board of Adjustments
DESCRIPTION:The Advisory Board of Adjustment will meet on Wednesday\, February 7 \, 2018 at 10:00 A.M.  This meeting will be held at the  Franklin County Courthouse Annex 34 Forbes Street\, Apalachicola\, FL 32320
URL:https://www.franklincountyflorida.com/event/advisory-board-of-adjustments/
END:VEVENT
BEGIN:VEVENT
DTSTART;TZID=America/New_York:20180206T040000
DTEND;TZID=America/New_York:20180206T040000
DTSTAMP:20260420T091224
CREATED:20171009T225854Z
LAST-MODIFIED:20171009T225854Z
UID:10000113-1517889600-1517889600@www.franklincountyflorida.com
SUMMARY:BOCC Regular Meeting
DESCRIPTION:The regular meeting of the Franklin County Board of County Commissioners will be held on February 6\, 2018 at 9:00 a.m. in the Commission Meeting Room in Apalachicola.
URL:https://www.franklincountyflorida.com/event/bocc-regular-meeting-15/
END:VEVENT
BEGIN:VEVENT
DTSTART;TZID=America/New_York:20180116T040000
DTEND;TZID=America/New_York:20180116T040000
DTSTAMP:20260420T091224
CREATED:20171009T225749Z
LAST-MODIFIED:20171009T225749Z
UID:10000112-1516075200-1516075200@www.franklincountyflorida.com
SUMMARY:BOCC Regular Meeting
DESCRIPTION:The regular meeting of the Franklin County Board of County Commissioners will be held on January 16\, 2018 at 9:00 a.m. in the Commission Meeting Room in Apalachicola.
URL:https://www.franklincountyflorida.com/event/bocc-regular-meeting-14/
END:VEVENT
END:VCALENDAR